BEGIN:VCALENDAR
VERSION:2.0
BEGIN:VEVENT
DTSTART:20200815T210000Z
DTEND:20200820T030000Z
SUMMARY:Court of Master Sommeliers Advanced Sommelier Certificate - Oceania 2020
DESCRIPTION:The Advanced Sommelier Certificate course and examination is intended for persons with extensive wine service experience, who wish to develop their knowledge and service skills to a higher level.
LOCATION:Sydney, Australia
END:VEVENT
END:VCALENDAR